BEGIN:VCALENDAR
VERSION:2.0
PRODID:-//Welcome To World Truckers Board - ECPv6.13.2.1//NONSGML v1.0//EN
CALSCALE:GREGORIAN
METHOD:PUBLISH
X-ORIGINAL-URL:http://www.worldtruckersboard.com
X-WR-CALDESC:Events for Welcome To World Truckers Board
REFRESH-INTERVAL;VALUE=DURATION:PT1H
X-Robots-Tag:noindex
X-PUBLISHED-TTL:PT1H
BEGIN:VTIMEZONE
TZID:America/New_York
BEGIN:DAYLIGHT
TZOFFSETFROM:-0500
TZOFFSETTO:-0400
TZNAME:EDT
DTSTART:20150308T070000
END:DAYLIGHT
BEGIN:STANDARD
TZOFFSETFROM:-0400
TZOFFSETTO:-0500
TZNAME:EST
DTSTART:20151101T060000
END:STANDARD
END:VTIMEZONE
BEGIN:VEVENT
DTSTART;VALUE=DATE:20151114
DTEND;VALUE=DATE:20151118
DTSTAMP:20260423T123343
CREATED:20150414T030254Z
LAST-MODIFIED:20150718T145243Z
UID:807-1447459200-1447804799@www.worldtruckersboard.com
SUMMARY:International Conference for Transporters
DESCRIPTION:Conference Objectives\nInternational Conference for Transporters-2015 aims to bring together leading transport industry officers\, researchers\, commercial drivers\, potential drivers and research scholars to exchange and share their experiences and research results about all aspects of Transportation Technology and on Road Safety and Freedom of the drivers while maintaining the safety of People\, Property and Information. It also provides the premier interdisciplinary and multidisciplinary forum for drivers\, planners\, researchers\, practitioners and educators to present and discuss the most recent innovations\, trends\, and concerns\, practical challenges encountered on the road and the solutions adopted in the field of Highway Transportation. \nTopics of the Conference:\n\nIncrease of driving hours of Service (HOS) per week for the peace of mind of the truckers\nFlexibility of maximum Wheelbase where LCV is permitted\nDrivers shortage in Canada and the United States.\nFreedom of Truckers from Inspections Stations unless in violation\nNo Pull-Over to Trucks unless solid reason is there\nTruckers contract disputes handled by State/Provincial Truckers Association or Boards\nTrucker’s laws should be made by/with Truckers who practically encounter on the road issues.\nAny other topics/ideas are welcome and need to be submitted during registration.\nProblems with Electronics Log books and solutions.\nNo On-road reset unless the driver wants to rest.\nTrucks Govt. Safety valid (for 12 month in MB) from any State mentioned/permitted in Apportioned Cab Card where truck is permitted to run legally and usually.\n\nFood and Accommodation:\nParticipants must arrange their own Food and Accommodation however there may be light snack and drinks during the event. We may provide you accommodation at a discount rate to early bird registrants who ask for accommodation.
URL:http://www.worldtruckersboard.com/event/international-conference-for-transporters/
LOCATION:Winnipeg\, Winnipeg\, Manitoba\, R3B 1B9\, Canada
CATEGORIES:Conference for Transporters
ATTACH;FMTTYPE=image/jpeg:http://www.worldtruckersboard.com/wp-content/uploads/2015/04/Winnipeg.jpg
ORGANIZER;CN="World Truckers Board":MAILTO:info@worldtruckersboard.com
END:VEVENT
BEGIN:VEVENT
DTSTART;VALUE=DATE:20150929
DTEND;VALUE=DATE:20151004
DTSTAMP:20260423T123343
CREATED:20141023T080204Z
LAST-MODIFIED:20150718T145211Z
UID:727-1443484800-1443916799@www.worldtruckersboard.com
SUMMARY:International Conference for Commercial Drivers
DESCRIPTION:Conference Objectives\nInternational Conference for Commercial Drivers-2015 aims to bring together leading transport industry officers\, researchers\, commercial drivers\, potential drivers and research scholars to exchange and share their experiences and research results about all aspects of Transportation Technology and on Road Safety and Freedom of the drivers while maintaining the safety of People\, Property and Information. It also provides the premier interdisciplinary and multidisciplinary forum for drivers\, planners\, researchers\, practitioners and educators to present and discuss the most recent innovations\, trends\, and concerns\, practical challenges encountered on the road and the solutions adopted in the field of Highway Transportation. \nTopics of the Conference:\n\nIncrease of driving hours of Service (HOS) per week for the peace of mind of the truckers\nFlexibility of maximum Wheelbase where LCV is permitted\nDrivers shortage in Canada and the United States.\nFreedom of Truckers from Inspections Stations unless in violation\nNo Pull-Over to Trucks unless solid reason is there\nTruckers contract disputes handled by State/Provincial Truckers Association or Boards\nTrucker’s laws should be made by/with Truckers who practically encounter on the road issues.\nAny other topics/ideas are welcome and need to be submitted during registration.\nProblems with Electronics Log books and solutions.\nNo On-road reset unless the driver wants to rest.\nTrucks Govt. Safety valid (for 12 month in MB) from any State mentioned/permitted in Apportioned Cab Card where truck is permitted to run legally and usually.\n\nFood and Accommodation:\nParticipants must arrange their own Food and Accommodation however there may be light snack and drinks during the event. We may provide you accommodation at a discount rate to early bird registrants who ask for accommodation.
URL:http://www.worldtruckersboard.com/event/international-conference-for-commercial-drivers/
LOCATION:Vancouver\, Vancouver\, British Columbia\, V6C 3T4\, Canada
CATEGORIES:Conference for Commercial Drivers
ATTACH;FMTTYPE=image/jpeg:http://www.worldtruckersboard.com/wp-content/uploads/2014/10/Vancouver.jpg
ORGANIZER;CN="World Truckers Board":MAILTO:info@worldtruckersboard.com
END:VEVENT
BEGIN:VEVENT
DTSTART;VALUE=DATE:20150809
DTEND;VALUE=DATE:20150812
DTSTAMP:20260423T123343
CREATED:20141023T080204Z
LAST-MODIFIED:20150509T051233Z
UID:726-1439078400-1439337599@www.worldtruckersboard.com
SUMMARY:International Conference for Trucking
DESCRIPTION:Conference Objectives\nInternational Conference for Trucking-2015 aims to bring together leading transport industry officers\, researchers\, commercial drivers\, potential drivers and research scholars to exchange and share their experiences and research results about all aspects of Transportation Technology and on Road Safety and Freedom of the drivers while maintaining the safety of People\, Property and Information. It also provides the premier interdisciplinary and multidisciplinary forum for drivers\, planners\, researchers\, practitioners and educators to present and discuss the most recent innovations\, trends\, and concerns\, practical challenges encountered on the road and the solutions adopted in the field of Highway Transportation. \nTopics of the Conference:\n\nIncrease of driving hours of Service (HOS) per week for the peace of mind of the truckers\nFlexibility of maximum Wheelbase where LCV is permitted\nDrivers shortage in Canada and the United States.\nFreedom of Truckers from Inspections Stations unless in violation\nNo Pull-Over to Trucks unless solid reason is there\nTruckers contract disputes handled by State/Provincial Truckers Association or Boards\nTrucker’s laws should be made by/with Truckers who practically encounter on the road issues.\nAny other topics/ideas are welcome and need to be submitted during registration.\nProblems with Electronics Log books and solutions.\nNo On-road reset unless the driver wants to rest.\nTrucks Govt. Safety valid (for 12 month in MB) from any State mentioned/permitted in Apportioned Cab Card where truck is permitted to run legally and usually.\n\nFood and Accommodation:\nParticipants must arrange their own Food and Accommodation however there may be light snack and drinks during the event. We may provide you accommodation at a discount rate to early bird registrants who ask for accommodation.
URL:http://www.worldtruckersboard.com/event/international-conference-for-trucking-2/
LOCATION:Montreal\, Montreal\, Quebec\, H2Y 1T2\, Canada
CATEGORIES:Conference for Trucking
ATTACH;FMTTYPE=image/jpeg:http://www.worldtruckersboard.com/wp-content/uploads/2014/10/Montreal.jpg
ORGANIZER;CN="World Truckers Board":MAILTO:info@worldtruckersboard.com
END:VEVENT
END:VCALENDAR